BEGIN:VCALENDAR
VERSION:2.0
PRODID:-//Ziber2013/
CALSCALE:GREGORIAN
BEGIN:VEVENT
UID:256200@https://www.scoutingaquarius.nl
DTSTART:20260509T140000
DTEND:20260509T163000
SUMMARY:welpen gaan zeilen
DESCRIPTION:
LOCATION:Scouting Aquarius Dirkshorn\, Clubhuis: Voorpolderweg 2A\, 1746 BA Dirkshorn
ATTACH;FMTTYPE=image/jpeg:/content/27024/agenda/clnt/7c5e001e7c554bdf813d96048d1b42f7.jpg?width=1600&height=1200
SEQUENCE:0
DTSTAMP:20260422T201254
END:VEVENT
END:VCALENDAR
