BEGIN:VCALENDAR
VERSION:2.0
PRODID:-//Ziber2013/
CALSCALE:GREGORIAN
BEGIN:VEVENT
UID:255980@https://www.scoutingaquarius.nl
DTSTART:20260509T090000
DTEND:20260509T170000
SUMMARY:Zeeverkenners Sleeptocht naar van Ewijcksluis 
DESCRIPTION:<p>Verdere info volgt in de zeeverkenners en ouder appgroep.</p>
LOCATION:Scouting Aquarius Dirkshorn\, Clubhuis: Voorpolderweg 2A\, 1746 BA Dirkshorn
ATTACH;FMTTYPE=image/jpeg:/content/27024/agenda/clnt/d87617b8e4b44daaa2093cc46370b7b8.jpg?width=1600&height=1200
SEQUENCE:0
DTSTAMP:20260422T201429
END:VEVENT
END:VCALENDAR
