BEGIN:VCALENDAR
VERSION:2.0
PRODID:-//Ziber2013/
CALSCALE:GREGORIAN
BEGIN:VEVENT
UID:255959@https://www.scoutingaquarius.nl
DTSTART:20260513T190000
DTEND:20260517T120000
SUMMARY:Water4Daagse Zeeverkenners 
DESCRIPTION:
LOCATION:Scouting Aquarius Dirkshorn\, Clubhuis: Voorpolderweg 2A\, 1746 BA Dirkshorn
ATTACH;FMTTYPE=image/jpeg:/content/27024/agenda/clnt/a6507842bf0945b8861b3360cf4dc3e8.jpg?width=1600&height=1200
SEQUENCE:0
DTSTAMP:20260422T201404
END:VEVENT
END:VCALENDAR
